BEGIN:VCALENDAR
VERSION:2.0
PRODID:-//CVS - ECPv5.8.0//NONSGML v1.0//EN
CALSCALE:GREGORIAN
METHOD:PUBLISH
X-WR-CALNAME:CVS
X-ORIGINAL-URL:https://jobs.cvshealth.com
X-WR-CALDESC:Events for CVS
BEGIN:VTIMEZONE
TZID:UTC
BEGIN:STANDARD
TZOFFSETFROM:+0000
TZOFFSETTO:+0000
TZNAME:UTC
DTSTART:20210101T000000
END:STANDARD
END:VTIMEZONE
BEGIN:VEVENT
DTSTART;TZID=UTC:20210810T000000
DTEND;TZID=UTC:20210930T000000
DTSTAMP:20210911T073444
CREATED:20210813T150937Z
LAST-MODIFIED:20210813T152712Z
UID:6713-1628553600-1632960000@jobs.cvshealth.com
SUMMARY:2021 Southeastern United States and Puerto Rico Grad Intern and Pharmacist Opportunities
DESCRIPTION:Search by job title\, category\, or Military MOS codeSearch by locationStart typing a location to get suggestions\, then press the down arrow to select one.*Please select location from the dropdownwithin1 Mile5 Miles10 Miles15 Miles20 Miles25 Miles50 Miles100 Miles200 Miles			Search Map\n\n		\nHome / Back to Event List \n\nRegisterEvent Title: \n2021 Southeastern United States and Puerto Rico Grad Intern and Pharmacist Opportunities \nEvent Date: \nTuesday Aug 10\, 2021 12:00 AM EST – Thursday Sep 30\, 2021 12:00 AM EST \nTime Zone: \nEastern Standard Time \nEvent Type: \nUniversity \nEvent Description:\nIf you are are a Licensed Pharmacist or a 2021 Pharmacy School Graduate and are interested in a Grad Intern or Pharmacist position as part of a healthcare innovation company\, bringing our heart to every moment of our customer’s health\, we invite you to connect with us to discuss available positions. Post grad opportunities are available in Alabama\, Florida\, Georgia\, Puerto Rico\, and South Carolina. Please register below to tell us a little more about your interests. \nRegister\n\n\n\n\n\n\n×CVS Health Issues
URL:https://jobs.cvshealth.com/event/2021-southeastern-united-states-and-puerto-rico-grad-intern-and-pharmacist-opportunities/
CATEGORIES:Virtual
END:VEVENT
END:VCALENDAR